BEGIN:VCALENDAR
VERSION:2.0
PRODID:-//Kilkenny County Library Calendar - ECPv4.6//NONSGML v1.0//EN
CALSCALE:GREGORIAN
METHOD:PUBLISH
X-WR-CALNAME:Kilkenny County Library Calendar
X-ORIGINAL-URL:http://www.kilkennylibrary.ie/calendar
X-WR-CALDESC:Events for Kilkenny County Library Calendar
BEGIN:VEVENT
DTSTART;TZID=Europe/Dublin:20180126T110000
DTEND;TZID=Europe/Dublin:20180126T120000
DTSTAMP:20171105T174722
CREATED:20171024T093620Z
LAST-MODIFIED:20171024T094041Z
UID:1748-1516964400-1516968000@www.kilkennylibrary.ie
SUMMARY:Loughboy: Irish language writing group
DESCRIPTION:Irish Language Writing Group\nBain triail as! Try it! \n \nMeets on the last Friday of every month at 11am. \nTel. Loughboy Library – 056 779 4176 \n  \n  \n
URL:http://www.kilkennylibrary.ie/calendar/event/loughboy-irish-language-writing-group/2018-01-26/
LOCATION:Loughboy Shopping Centre\, Kilkenny\, Kilkenny\, R95 TD71\, Ireland
GEO:52.640866;-7.243242
X-APPLE-STRUCTURED-LOCATION;VALUE=URI;X-ADDRESS=Loughboy Shopping Centre Kilkenny Kilkenny R95 TD71 Ireland;X-APPLE-RADIUS=500;X-TITLE=Loughboy Shopping Centre:geo:-7.243242,52.640866
ORGANIZER;CN="Caitriona":MAILTO:loughboy@kilkennylibrary.ie
END:VEVENT
END:VCALENDAR