BEGIN:VCALENDAR
VERSION:2.0
PRODID:-//Kilkenny County Library Calendar - ECPv4.6//NONSGML v1.0//EN
CALSCALE:GREGORIAN
METHOD:PUBLISH
X-WR-CALNAME:Kilkenny County Library Calendar
X-ORIGINAL-URL:http://www.kilkennylibrary.ie/calendar
X-WR-CALDESC:Events for Kilkenny County Library Calendar
BEGIN:VEVENT
DTSTART;TZID=UTC+0:20171025T100000
DTEND;TZID=UTC+0:20171025T120000
DTSTAMP:20171028T232158
CREATED:20171002T134602Z
LAST-MODIFIED:20171002T134837Z
UID:1469-1508925600-1508932800@www.kilkennylibrary.ie
SUMMARY:Loughboy:
DESCRIPTION: \nLoughboy Knitting & Crochet Group meet on Wednesday’s from 10-12pm. New members are always welcome to drop in! \n  \n
URL:http://www.kilkennylibrary.ie/calendar/event/loughboy/2017-10-25/
LOCATION:Loughboy Shopping Centre\, Kilkenny\, Kilkenny\, R95 TD71\, Ireland
GEO:52.640866;-7.243242
X-APPLE-STRUCTURED-LOCATION;VALUE=URI;X-ADDRESS=Loughboy Shopping Centre Kilkenny Kilkenny R95 TD71 Ireland;X-APPLE-RADIUS=500;X-TITLE=Loughboy Shopping Centre:geo:-7.243242,52.640866
ORGANIZER;CN="Caitriona":MAILTO:loughboy@kilkennylibrary.ie
END:VEVENT
BEGIN:VEVENT
DTSTART;TZID=UTC+0:20171025T103000
DTEND;TZID=UTC+0:20171025T120000
DTSTAMP:20171028T232158
CREATED:20170828T153340Z
LAST-MODIFIED:20170828T153340Z
UID:1392-1508927400-1508932800@www.kilkennylibrary.ie
SUMMARY:Graig: Knitting Group
DESCRIPTION: \nKnitting group meet every Wednesday from 10.30-12pm. New members welcome. \n
URL:http://www.kilkennylibrary.ie/calendar/event/graig-knitting-group/2017-10-25/
LOCATION:Convent Road\, Graiguenamanagh\, Kilkenny\, R95 V342\, Ireland
GEO:52.5418384;-6.9545794
X-APPLE-STRUCTURED-LOCATION;VALUE=URI;X-ADDRESS=Convent Road Graiguenamanagh Kilkenny R95 V342 Ireland;X-APPLE-RADIUS=500;X-TITLE=Convent Road:geo:-6.9545794,52.5418384
ORGANIZER;CN="Majella":MAILTO:ferrybank@kilkennylibrary.ie
END:VEVENT
BEGIN:VEVENT
DTSTART;TZID=Europe/Dublin:20171025T103000
DTEND;TZID=Europe/Dublin:20171025T113000
DTSTAMP:20171028T232158
CREATED:20171023T115118Z
LAST-MODIFIED:20171023T115118Z
UID:1601-1508927400-1508931000@www.kilkennylibrary.ie
SUMMARY:Ferrybank: Age Action Computer Classes
DESCRIPTION: \nComputer classes with Age Action\, Wednesdays 10.30am. New members always welcome. \n
URL:http://www.kilkennylibrary.ie/calendar/event/ferrybank-age-action-computer-classes/2017-10-25/
LOCATION:Ferrybank Shopping Centre\, Ferrybank\, Kilkenny Via Waterford\, X91 D211\, Ireland
ORGANIZER;CN="Karyn%20Deegan":MAILTO:ferrybank@kilkennylibrary.ie
END:VEVENT
BEGIN:VEVENT
DTSTART;TZID=UTC+0:20171025T110000
DTEND;TZID=UTC+0:20171025T120000
DTSTAMP:20171028T232158
CREATED:20171002T135330Z
LAST-MODIFIED:20171002T135330Z
UID:1493-1508929200-1508932800@www.kilkennylibrary.ie
SUMMARY:Loughboy: Ciorcal Comhrá Gaeilge don Daoine Fásta
DESCRIPTION: \nCiorcal Comhrá Gaeilge don Daoine Fásta gach Céadaoin  11am-12pm. \nBeidh fáilte mor roimh dhaoine nua! \n
URL:http://www.kilkennylibrary.ie/calendar/event/loughboy-ciorcal-comhra-gaeilge-don-daoine-fasta/2017-10-25/
LOCATION:Loughboy Shopping Centre\, Kilkenny\, Kilkenny\, R95 TD71\, Ireland
GEO:52.640866;-7.243242
X-APPLE-STRUCTURED-LOCATION;VALUE=URI;X-ADDRESS=Loughboy Shopping Centre Kilkenny Kilkenny R95 TD71 Ireland;X-APPLE-RADIUS=500;X-TITLE=Loughboy Shopping Centre:geo:-7.243242,52.640866
ORGANIZER;CN="Caitriona":MAILTO:loughboy@kilkennylibrary.ie
END:VEVENT
BEGIN:VEVENT
DTSTART;TZID=UTC+0:20171025T113000
DTEND;TZID=UTC+0:20171025T123000
DTSTAMP:20171028T232158
CREATED:20170828T093724Z
LAST-MODIFIED:20170925T111443Z
UID:1318-1508931000-1508934600@www.kilkennylibrary.ie
SUMMARY:Castlecomer: Toddler Story & Crafts
DESCRIPTION: \nStorytime and crafts for toddlers takes place every Wednesday in Castlecomer Library from 11.30-12.30pm.This is a wonderful opportunity for young children to mix with new children and for both parents/carers to make new friends.All are welcome to join in the fun and drop in whenever suits you! \n
URL:http://www.kilkennylibrary.ie/calendar/event/castlecomer-toddler-story-crafts-2017-10-25/
LOCATION:Kilkenny Street\, Castlecomer\, Kilkenny\, R95 AH33\, Ireland
GEO:52.8027787;-7.2101958
X-APPLE-STRUCTURED-LOCATION;VALUE=URI;X-ADDRESS=Kilkenny Street Castlecomer Kilkenny R95 AH33 Ireland;X-APPLE-RADIUS=500;X-TITLE=Kilkenny Street:geo:-7.2101958,52.8027787
ORGANIZER;CN="Mary":MAILTO:castlecomer@kilkennylibrary.ie
END:VEVENT
BEGIN:VEVENT
DTSTART;TZID=UTC+0:20171025T113000
DTEND;TZID=UTC+0:20171025T123000
DTSTAMP:20171028T232158
CREATED:20170828T094449Z
LAST-MODIFIED:20171023T131004Z
UID:1331-1508931000-1508934600@www.kilkennylibrary.ie
SUMMARY:City Library: Bookclub
DESCRIPTION: \nThe Quay book club meets on the last Wednesday of each month from 11.45am -12.45pm. \nNew members are always welcome to join in. \n
URL:http://www.kilkennylibrary.ie/calendar/event/city-library-bookclub/2017-10-25/
LOCATION:John's Quay\, Kilkenny\, Kilkenny\, R95 XY65 \, Ireland
GEO:52.6548785;-7.2511054
X-APPLE-STRUCTURED-LOCATION;VALUE=URI;X-ADDRESS=John's Quay Kilkenny Kilkenny R95 XY65  Ireland;X-APPLE-RADIUS=500;X-TITLE=John's Quay:geo:-7.2511054,52.6548785
ORGANIZER;CN="Margo":MAILTO:citylibrary@kilkennylibrary.ie
END:VEVENT
BEGIN:VEVENT
DTSTART;TZID=UTC+0:20171025T173000
DTEND;TZID=UTC+0:20171025T183000
DTSTAMP:20171028T232158
CREATED:20170828T151738Z
LAST-MODIFIED:20170828T151738Z
UID:1360-1508952600-1508956200@www.kilkennylibrary.ie
SUMMARY:Ferrybank: Bookclub
DESCRIPTION: \nFerrybank library’s book club meet on the last Wednesday of each month from 5.30pm. \nNew members are welcome to join. \n
URL:http://www.kilkennylibrary.ie/calendar/event/ferrybank-bookclub-3/2017-10-25/
LOCATION:Ferrybank Shopping Centre\, Ferrybank\, Kilkenny Via Waterford\, X91 D211\, Ireland
ORGANIZER;CN="Karyn%20Deegan":MAILTO:ferrybank@kilkennylibrary.ie
END:VEVENT
END:VCALENDAR