BEGIN:VCALENDAR
VERSION:2.0
PRODID:-//Kilkenny County Library Calendar - ECPv4.6//NONSGML v1.0//EN
CALSCALE:GREGORIAN
METHOD:PUBLISH
X-WR-CALNAME:Kilkenny County Library Calendar
X-ORIGINAL-URL:http://www.kilkennylibrary.ie/calendar
X-WR-CALDESC:Events for Kilkenny County Library Calendar
BEGIN:VEVENT
DTSTART;TZID=UTC+0:20171018T100000
DTEND;TZID=UTC+0:20171018T120000
DTSTAMP:20171028T231251
CREATED:20171002T134602Z
LAST-MODIFIED:20171002T134836Z
UID:1468-1508320800-1508328000@www.kilkennylibrary.ie
SUMMARY:Loughboy:
DESCRIPTION: \nLoughboy Knitting & Crochet Group meet on Wednesday’s from 10-12pm. New members are always welcome to drop in! \n  \n
URL:http://www.kilkennylibrary.ie/calendar/event/loughboy/2017-10-18/
LOCATION:Loughboy Shopping Centre\, Kilkenny\, Kilkenny\, R95 TD71\, Ireland
GEO:52.640866;-7.243242
X-APPLE-STRUCTURED-LOCATION;VALUE=URI;X-ADDRESS=Loughboy Shopping Centre Kilkenny Kilkenny R95 TD71 Ireland;X-APPLE-RADIUS=500;X-TITLE=Loughboy Shopping Centre:geo:-7.243242,52.640866
ORGANIZER;CN="Caitriona":MAILTO:loughboy@kilkennylibrary.ie
END:VEVENT
BEGIN:VEVENT
DTSTART;TZID=UTC+0:20171018T103000
DTEND;TZID=UTC+0:20171018T120000
DTSTAMP:20171028T231251
CREATED:20170828T153340Z
LAST-MODIFIED:20170828T153340Z
UID:1391-1508322600-1508328000@www.kilkennylibrary.ie
SUMMARY:Graig: Knitting Group
DESCRIPTION: \nKnitting group meet every Wednesday from 10.30-12pm. New members welcome. \n
URL:http://www.kilkennylibrary.ie/calendar/event/graig-knitting-group/2017-10-18/
LOCATION:Convent Road\, Graiguenamanagh\, Kilkenny\, R95 V342\, Ireland
GEO:52.5418384;-6.9545794
X-APPLE-STRUCTURED-LOCATION;VALUE=URI;X-ADDRESS=Convent Road Graiguenamanagh Kilkenny R95 V342 Ireland;X-APPLE-RADIUS=500;X-TITLE=Convent Road:geo:-6.9545794,52.5418384
ORGANIZER;CN="Majella":MAILTO:ferrybank@kilkennylibrary.ie
END:VEVENT
BEGIN:VEVENT
DTSTART;TZID=UTC+0:20171018T110000
DTEND;TZID=UTC+0:20171018T120000
DTSTAMP:20171028T231251
CREATED:20171002T135330Z
LAST-MODIFIED:20171002T135330Z
UID:1492-1508324400-1508328000@www.kilkennylibrary.ie
SUMMARY:Loughboy: Ciorcal Comhrá Gaeilge don Daoine Fásta
DESCRIPTION: \nCiorcal Comhrá Gaeilge don Daoine Fásta gach Céadaoin  11am-12pm. \nBeidh fáilte mor roimh dhaoine nua! \n
URL:http://www.kilkennylibrary.ie/calendar/event/loughboy-ciorcal-comhra-gaeilge-don-daoine-fasta/2017-10-18/
LOCATION:Loughboy Shopping Centre\, Kilkenny\, Kilkenny\, R95 TD71\, Ireland
GEO:52.640866;-7.243242
X-APPLE-STRUCTURED-LOCATION;VALUE=URI;X-ADDRESS=Loughboy Shopping Centre Kilkenny Kilkenny R95 TD71 Ireland;X-APPLE-RADIUS=500;X-TITLE=Loughboy Shopping Centre:geo:-7.243242,52.640866
ORGANIZER;CN="Caitriona":MAILTO:loughboy@kilkennylibrary.ie
END:VEVENT
BEGIN:VEVENT
DTSTART;TZID=UTC+0:20171018T113000
DTEND;TZID=UTC+0:20171018T123000
DTSTAMP:20171028T231251
CREATED:20170828T093724Z
LAST-MODIFIED:20170828T093724Z
UID:1317-1508326200-1508329800@www.kilkennylibrary.ie
SUMMARY:Castlecomer: Toddler Story & Crafts
DESCRIPTION: \nStorytime and crafts for toddlers takes place every Wednesday in Castlecomer Library from 11.30-12.30pm.This is a wonderful opportunity for young children to mix with new children and for both parents/carers to make new friends.All are welcome to join in the fun and drop in whenever suits you! \n
URL:http://www.kilkennylibrary.ie/calendar/event/castlecomer-toddler-story-crafts/2017-10-18/
LOCATION:Kilkenny Street\, Castlecomer\, Kilkenny\, R95 AH33\, Ireland
GEO:52.8027787;-7.2101958
X-APPLE-STRUCTURED-LOCATION;VALUE=URI;X-ADDRESS=Kilkenny Street Castlecomer Kilkenny R95 AH33 Ireland;X-APPLE-RADIUS=500;X-TITLE=Kilkenny Street:geo:-7.2101958,52.8027787
ORGANIZER;CN="Mary":MAILTO:castlecomer@kilkennylibrary.ie
END:VEVENT
END:VCALENDAR