BEGIN:VCALENDAR
VERSION:2.0
PRODID:-//Kilkenny County Library Calendar - ECPv4.6//NONSGML v1.0//EN
CALSCALE:GREGORIAN
METHOD:PUBLISH
X-WR-CALNAME:Kilkenny County Library Calendar
X-ORIGINAL-URL:http://www.kilkennylibrary.ie/calendar
X-WR-CALDESC:Events for Kilkenny County Library Calendar
BEGIN:VEVENT
DTSTART;TZID=UTC+0:20171012T100000
DTEND;TZID=UTC+0:20171012T120000
DTSTAMP:20171028T231130
CREATED:20170828T092751Z
LAST-MODIFIED:20171012T153813Z
UID:1304-1507802400-1507809600@www.kilkennylibrary.ie
SUMMARY:Castlecomer:Knitting Group
DESCRIPTION: \nCome along and knit with our nattering knitters from 10-12pm every Thursday morning. \nNew members  welcome to join in. \n
URL:http://www.kilkennylibrary.ie/calendar/event/castlecomerknitting-group/2017-10-12/
LOCATION:Kilkenny Street\, Castlecomer\, Kilkenny\, R95 AH33\, Ireland
GEO:52.8027787;-7.2101958
X-APPLE-STRUCTURED-LOCATION;VALUE=URI;X-ADDRESS=Kilkenny Street Castlecomer Kilkenny R95 AH33 Ireland;X-APPLE-RADIUS=500;X-TITLE=Kilkenny Street:geo:-7.2101958,52.8027787
ORGANIZER;CN="Mary":MAILTO:castlecomer@kilkennylibrary.ie
END:VEVENT
BEGIN:VEVENT
DTSTART;TZID=UTC+0:20171012T100000
DTEND;TZID=UTC+0:20171012T123000
DTSTAMP:20171028T231130
CREATED:20170828T095328Z
LAST-MODIFIED:20170828T095328Z
UID:1344-1507802400-1507811400@www.kilkennylibrary.ie
SUMMARY:Ferrybank: Knitting Group
DESCRIPTION: \nFerrybank knitting group meet every Thursday from 10-12.30pm. New members a reminder always welcome to join in. \n
URL:http://www.kilkennylibrary.ie/calendar/event/ferrybank-knitting-group-2/2017-10-12/
LOCATION:Ferrybank Shopping Centre\, Ferrybank\, Kilkenny Via Waterford\, X91 D211\, Ireland
ORGANIZER;CN="Karyn%20Deegan":MAILTO:ferrybank@kilkennylibrary.ie
END:VEVENT
BEGIN:VEVENT
DTSTART;TZID=UTC+0:20171012T113000
DTEND;TZID=UTC+0:20171012T123000
DTSTAMP:20171028T231130
CREATED:20171002T141600Z
LAST-MODIFIED:20171002T141600Z
UID:1504-1507807800-1507811400@www.kilkennylibrary.ie
SUMMARY:Loughboy: Toddler Storytime
DESCRIPTION: \nLoughboy Library’s Toddler Storytime & Craft sessions continue Thursdays from 11.30-12.30pm. \nNew people are always welcome to drop in! \n  \n
URL:http://www.kilkennylibrary.ie/calendar/event/loughboy-toddler-storytime/2017-10-12/
LOCATION:Loughboy Shopping Centre\, Kilkenny\, Kilkenny\, R95 TD71\, Ireland
GEO:52.640866;-7.243242
X-APPLE-STRUCTURED-LOCATION;VALUE=URI;X-ADDRESS=Loughboy Shopping Centre Kilkenny Kilkenny R95 TD71 Ireland;X-APPLE-RADIUS=500;X-TITLE=Loughboy Shopping Centre:geo:-7.243242,52.640866
ORGANIZER;CN="Caitriona":MAILTO:loughboy@kilkennylibrary.ie
END:VEVENT
BEGIN:VEVENT
DTSTART;TZID=UTC+0:20171012T140000
DTEND;TZID=UTC+0:20171012T160000
DTSTAMP:20171028T231130
CREATED:20171002T143943Z
LAST-MODIFIED:20171002T143943Z
UID:1518-1507816800-1507824000@www.kilkennylibrary.ie
SUMMARY:Loughboy: Creative Writing Group
DESCRIPTION: \nCreative Writer’s Group meet Thursdays from 2-4pm . New members are always welcome! \n  \n
URL:http://www.kilkennylibrary.ie/calendar/event/loughboy-creative-writing-group/2017-10-12/
LOCATION:Loughboy Shopping Centre\, Kilkenny\, Kilkenny\, R95 TD71\, Ireland
GEO:52.640866;-7.243242
X-APPLE-STRUCTURED-LOCATION;VALUE=URI;X-ADDRESS=Loughboy Shopping Centre Kilkenny Kilkenny R95 TD71 Ireland;X-APPLE-RADIUS=500;X-TITLE=Loughboy Shopping Centre:geo:-7.243242,52.640866
ORGANIZER;CN="Caitriona":MAILTO:loughboy@kilkennylibrary.ie
END:VEVENT
END:VCALENDAR