BEGIN:VCALENDAR
VERSION:2.0
PRODID:-//Kilkenny County Library Calendar - ECPv4.6//NONSGML v1.0//EN
CALSCALE:GREGORIAN
METHOD:PUBLISH
X-WR-CALNAME:Kilkenny County Library Calendar
X-ORIGINAL-URL:http://www.kilkennylibrary.ie/calendar
X-WR-CALDESC:Events for Kilkenny County Library Calendar
BEGIN:VEVENT
DTSTART;TZID=UTC+0:20170522T140000
DTEND;TZID=UTC+0:20170522T160000
DTSTAMP:20171106T154514
CREATED:20170511T075742Z
LAST-MODIFIED:20170511T075742Z
UID:939-1495461600-1495468800@www.kilkennylibrary.ie
SUMMARY:Internet classes: Callan
DESCRIPTION: \nFree Internet classes will take place in Callan Area Office on Monday 15th\, Wed. 17th\, Thursday 18th\, Monday 2nd & Wed. 24th May for beginners. Tablets will be provided.These classes are provided by trainer Theresa who has over 20 years experience. \n  \n
URL:http://www.kilkennylibrary.ie/calendar/event/internet-classes-callan-5/
LOCATION:Clonmel Road\, Callan\, Co. Kilkenny\, R95 TW10\, Ireland
GEO:52.5412307;-7.3927856
X-APPLE-STRUCTURED-LOCATION;VALUE=URI;X-ADDRESS=Clonmel Road Callan Co. Kilkenny R95 TW10 Ireland;X-APPLE-RADIUS=500;X-TITLE=Clonmel Road:geo:-7.3927856,52.5412307
ORGANIZER;CN="Anna%20Byrne%20CN":MAILTO:callan@kilkennylibrary.ie
END:VEVENT
END:VCALENDAR