BEGIN:VCALENDAR
VERSION:2.0
PRODID:-//Kilkenny County Library Calendar - ECPv4.6//NONSGML v1.0//EN
CALSCALE:GREGORIAN
METHOD:PUBLISH
X-WR-CALNAME:Kilkenny County Library Calendar
X-ORIGINAL-URL:http://www.kilkennylibrary.ie/calendar
X-WR-CALDESC:Events for Kilkenny County Library Calendar
BEGIN:VEVENT
DTSTART;TZID=UTC+0:20170513T103000
DTEND;TZID=UTC+0:20170513T120000
DTSTAMP:20171106T213247
CREATED:20170511T091103Z
LAST-MODIFIED:20170511T091103Z
UID:1022-1494671400-1494676800@www.kilkennylibrary.ie
SUMMARY:Thomastown: upcycling with Maire
DESCRIPTION: \nUpcycle old clothes or other materials into yarn\, then knit/crochet a bag/basket with it! \nMaire from Knitting For All: Kilkenny with host this 4 week workshop. \nBooking Essential. \n  \n
URL:http://www.kilkennylibrary.ie/calendar/event/thomastown-upcycling-maire/
LOCATION:Marshes Street\, Thomastown\, Kilkenny\, R95 HP26\, Ireland
GEO:52.5250364;-7.1401874
X-APPLE-STRUCTURED-LOCATION;VALUE=URI;X-ADDRESS=Marshes Street Thomastown Kilkenny R95 HP26 Ireland;X-APPLE-RADIUS=500;X-TITLE=Marshes Street:geo:-7.1401874,52.5250364
ORGANIZER;CN="Patricia%20Nolan":MAILTO:graig@kilkennylibrary.ie
END:VEVENT
BEGIN:VEVENT
DTSTART;TZID=UTC+0:20170513T110000
DTEND;TZID=UTC+0:20170513T123000
DTSTAMP:20171106T213247
CREATED:20170511T091944Z
LAST-MODIFIED:20170511T091944Z
UID:1036-1494673200-1494678600@www.kilkennylibrary.ie
SUMMARY:Urlingford: Mindfulness
DESCRIPTION: \nIntroduction to the art of Mindfulness with Deirdre Dowling \n
URL:http://www.kilkennylibrary.ie/calendar/event/urlingford-mindfulness/
LOCATION:The Courthouse\, Urlingford\, Co. Kilkenny\,  E41 A2X4 \, Ireland
ORGANIZER;CN="Anna%20Byrne%20CN":MAILTO:callan@kilkennylibrary.ie
END:VEVENT
END:VCALENDAR