BEGIN:VCALENDAR
VERSION:2.0
PRODID:-//Kilkenny County Library Calendar - ECPv4.6//NONSGML v1.0//EN
CALSCALE:GREGORIAN
METHOD:PUBLISH
X-WR-CALNAME:Kilkenny County Library Calendar
X-ORIGINAL-URL:http://www.kilkennylibrary.ie/calendar
X-WR-CALDESC:Events for Kilkenny County Library Calendar
BEGIN:VEVENT
DTSTART;TZID=UTC+0:20171109T113000
DTEND;TZID=UTC+0:20171109T123000
DTSTAMP:20171105T054030
CREATED:20171002T141600Z
LAST-MODIFIED:20171002T141600Z
UID:1508-1510227000-1510230600@www.kilkennylibrary.ie
SUMMARY:Loughboy: Toddler Storytime
DESCRIPTION: \nLoughboy Library’s Toddler Storytime & Craft sessions continue Thursdays from 11.30-12.30pm. \nNew people are always welcome to drop in! \n  \n
URL:http://www.kilkennylibrary.ie/calendar/event/loughboy-toddler-storytime/2017-11-09/
LOCATION:Loughboy Shopping Centre\, Kilkenny\, Kilkenny\, R95 TD71\, Ireland
GEO:52.640866;-7.243242
X-APPLE-STRUCTURED-LOCATION;VALUE=URI;X-ADDRESS=Loughboy Shopping Centre Kilkenny Kilkenny R95 TD71 Ireland;X-APPLE-RADIUS=500;X-TITLE=Loughboy Shopping Centre:geo:-7.243242,52.640866
ORGANIZER;CN="Caitriona":MAILTO:loughboy@kilkennylibrary.ie
END:VEVENT
END:VCALENDAR