BEGIN:VCALENDAR
VERSION:2.0
PRODID:-//Kilkenny County Library Calendar - ECPv4.6//NONSGML v1.0//EN
CALSCALE:GREGORIAN
METHOD:PUBLISH
X-WR-CALNAME:Kilkenny County Library Calendar
X-ORIGINAL-URL:http://www.kilkennylibrary.ie/calendar
X-WR-CALDESC:Events for Kilkenny County Library Calendar
BEGIN:VEVENT
DTSTART;TZID=Europe/Dublin:20171110T190000
DTEND;TZID=Europe/Dublin:20171110T200000
DTSTAMP:20171105T055705
CREATED:20171023T152553Z
LAST-MODIFIED:20171023T152553Z
UID:1687-1510340400-1510344000@www.kilkennylibrary.ie
SUMMARY:Loughboy: Where Old Ghosts Meet -celebrating 50th Anniversary of the death of Patrick Kavanagh
DESCRIPTION: \nTo celebrate the 50th Anniversary of the death of Patrick Kavanagh\, we will host “Where Old Ghosts Meet”\, a collection of poetry\, prose and songs with Kilkenny native Jimmy Rhatigan.This rehearsed reading features his best known work\, and will  include the story of his visit to Kilkenny city in the 1950s.It has been adapted and directed by Geoff Rose. \nAll are welcome! \n  \n
URL:http://www.kilkennylibrary.ie/calendar/event/loughboy-old-ghosts-meet-celebrating-50th-anniversary-death-patrick-kavanagh/
LOCATION:Loughboy Shopping Centre\, Kilkenny\, Kilkenny\, R95 TD71\, Ireland
GEO:52.640866;-7.243242
X-APPLE-STRUCTURED-LOCATION;VALUE=URI;X-ADDRESS=Loughboy Shopping Centre Kilkenny Kilkenny R95 TD71 Ireland;X-APPLE-RADIUS=500;X-TITLE=Loughboy Shopping Centre:geo:-7.243242,52.640866
ORGANIZER;CN="Caitriona":MAILTO:loughboy@kilkennylibrary.ie
END:VEVENT
END:VCALENDAR