BEGIN:VCALENDAR
VERSION:2.0
PRODID:-//Kilkenny County Library Calendar - ECPv4.6//NONSGML v1.0//EN
CALSCALE:GREGORIAN
METHOD:PUBLISH
X-WR-CALNAME:Kilkenny County Library Calendar
X-ORIGINAL-URL:http://www.kilkennylibrary.ie/calendar
X-WR-CALDESC:Events for Kilkenny County Library Calendar
BEGIN:VEVENT
DTSTART;TZID=Europe/Dublin:20171207T110000
DTEND;TZID=Europe/Dublin:20171207T113000
DTSTAMP:20171105T152131
CREATED:20171024T084824Z
LAST-MODIFIED:20171024T084824Z
UID:1741-1512644400-1512646200@www.kilkennylibrary.ie
SUMMARY:Graig: Toddler Storytime
DESCRIPTION:Storytime at Graiguenamanagh Library on Thursdays \,11.00 – 11.30am.\n  \n \nTel Graiguenamangh Library for more information 056 779 4178 \n
URL:http://www.kilkennylibrary.ie/calendar/event/graig-toddler-storytime/2017-12-07/
LOCATION:Convent Road\, Graiguenamanagh\, Kilkenny\, R95 V342\, Ireland
GEO:52.5418384;-6.9545794
X-APPLE-STRUCTURED-LOCATION;VALUE=URI;X-ADDRESS=Convent Road Graiguenamanagh Kilkenny R95 V342 Ireland;X-APPLE-RADIUS=500;X-TITLE=Convent Road:geo:-6.9545794,52.5418384
ORGANIZER;CN="Patricia%20Nolan":MAILTO:graig@kilkennylibrary.ie
END:VEVENT
END:VCALENDAR