BEGIN:VCALENDAR
VERSION:2.0
PRODID:-//Kilkenny County Library Calendar - ECPv4.6//NONSGML v1.0//EN
CALSCALE:GREGORIAN
METHOD:PUBLISH
X-WR-CALNAME:Kilkenny County Library Calendar
X-ORIGINAL-URL:http://www.kilkennylibrary.ie/calendar
X-WR-CALDESC:Events for Kilkenny County Library Calendar
BEGIN:VEVENT
DTSTART;TZID=Europe/Dublin:20171102T100000
DTEND;TZID=Europe/Dublin:20171102T120000
DTSTAMP:20171105T043942
CREATED:20171023T104542Z
LAST-MODIFIED:20171023T110517Z
UID:1564-1509616800-1509624000@www.kilkennylibrary.ie
SUMMARY:Ferrybank: Thursday Toddler Group
DESCRIPTION: \n  \nToddler Group at Ferrybank Library is on Thursdays\, from 10am to 12 noon. \nNew people are always welcome to drop in! \n
URL:http://www.kilkennylibrary.ie/calendar/event/ferrybank-thursday-toddler-group/2017-11-02/
LOCATION:Ferrybank Shopping Centre\, Ferrybank\, Kilkenny Via Waterford\, X91 D211\, Ireland
ORGANIZER;CN="Karyn%20Deegan":MAILTO:ferrybank@kilkennylibrary.ie
END:VEVENT
END:VCALENDAR